BEGIN:VCALENDAR
VERSION:2.0
PRODID:spatie/icalendar-generator
DESCRIPTION:Events from VisionServe Alliance
X-WR-CALDESC:Events from VisionServe Alliance
REFRESH-INTERVAL;VALUE=DURATION:PT1440M
X-PUBLISHED-TTL:PT1440M
BEGIN:VTIMEZONE
TZID:Etc/GMT+0
BEGIN:STANDARD
DTSTART:20250221T140000Z
TZOFFSETFROM:+0000
TZOFFSETTO:+0000
END:STANDARD
END:VTIMEZONE
BEGIN:VTIMEZONE
TZID:UTC
BEGIN:STANDARD
DTSTART:20250729T105737Z
TZOFFSETFROM:+0000
TZOFFSETTO:+0000
END:STANDARD
END:VTIMEZONE
BEGIN:VEVENT
UID:669-263
DTSTAMP:20260425T105737Z
SUMMARY:VSA Annual Meeting
LOCATION:
ORGANIZER;CN=VSAadmin:MAILTO:itadmin@visionservealliance.org
DTSTART;TZID=Etc/GMT+0:20251118T140000
DTEND;TZID=Etc/GMT+0:20251118T140000
X-ALT-DESC;FMTTYPE=TEXT/HTML:Please join us for our Annual Meeting to get a
 n overview of this year's accomplishments as well as plans for the upcomin
 g year.  Please register to attend here!  More information on how to reg
 ister coming soon!  Please contact Helen Chapman if you need assistance o
 r become a member today!
CATEGORIES:VisionServe Events
URL;VALUE=URI:https://visionservealliance.org/mc-events/vsa-annual-meeting-
 3/
METHOD:PUBLISH
END:VEVENT
END:VCALENDAR