BEGIN:VCALENDAR
VERSION:2.0
PRODID:spatie/icalendar-generator
DESCRIPTION:Events from VisionServe Alliance
X-WR-CALDESC:Events from VisionServe Alliance
REFRESH-INTERVAL;VALUE=DURATION:PT1440M
X-PUBLISHED-TTL:PT1440M
BEGIN:VTIMEZONE
TZID:Etc/GMT+0
BEGIN:STANDARD
DTSTART:20220212T110000Z
TZOFFSETFROM:+0000
TZOFFSETTO:+0000
END:STANDARD
END:VTIMEZONE
BEGIN:VTIMEZONE
TZID:UTC
BEGIN:STANDARD
DTSTART:20250723T154226Z
TZOFFSETFROM:+0000
TZOFFSETTO:+0000
END:STANDARD
END:VTIMEZONE
BEGIN:VEVENT
UID:365-101
DTSTAMP:20260419T154226Z
SUMMARY:IDEAL Committee Meeting
LOCATION:
ORGANIZER;CN=VSAadmin:MAILTO:itadmin@visionservealliance.org
DTSTART;TZID=Etc/GMT+0:20221109T110000
DTEND;TZID=Etc/GMT+0:20221109T123000
X-ALT-DESC;FMTTYPE=TEXT/HTML:IDEAL (Inclusion Diversity Equity Accessibilit
 y and Leadership) Committee Meeting. Contact Helen Chapman if you're inter
 ested in serving on this committee which meets every other month.
CATEGORIES:VisionServe Events
URL;VALUE=URI:https://visionservealliance.org/mc-events/ideal-committee-mee
 ting-4/
METHOD:PUBLISH
END:VEVENT
END:VCALENDAR